BEGIN:VCALENDAR
VERSION:2.0
PRODID:-//Paper Moon Guitar Duo - ECPv6.15.3//NONSGML v1.0//EN
CALSCALE:GREGORIAN
METHOD:PUBLISH
X-WR-CALNAME:Paper Moon Guitar Duo
X-ORIGINAL-URL:https://papermoonguitar.com
X-WR-CALDESC:Events for Paper Moon Guitar Duo
REFRESH-INTERVAL;VALUE=DURATION:PT1H
X-Robots-Tag:noindex
X-PUBLISHED-TTL:PT1H
BEGIN:VTIMEZONE
TZID:America/Los_Angeles
BEGIN:DAYLIGHT
TZOFFSETFROM:-0800
TZOFFSETTO:-0700
TZNAME:PDT
DTSTART:20140309T100000
END:DAYLIGHT
BEGIN:STANDARD
TZOFFSETFROM:-0700
TZOFFSETTO:-0800
TZNAME:PST
DTSTART:20141102T090000
END:STANDARD
BEGIN:DAYLIGHT
TZOFFSETFROM:-0800
TZOFFSETTO:-0700
TZNAME:PDT
DTSTART:20150308T100000
END:DAYLIGHT
BEGIN:STANDARD
TZOFFSETFROM:-0700
TZOFFSETTO:-0800
TZNAME:PST
DTSTART:20151101T090000
END:STANDARD
BEGIN:DAYLIGHT
TZOFFSETFROM:-0800
TZOFFSETTO:-0700
TZNAME:PDT
DTSTART:20160313T100000
END:DAYLIGHT
BEGIN:STANDARD
TZOFFSETFROM:-0700
TZOFFSETTO:-0800
TZNAME:PST
DTSTART:20161106T090000
END:STANDARD
END:VTIMEZONE
BEGIN:VEVENT
DTSTART;TZID=America/Los_Angeles:20160911T183000
DTEND;TZID=America/Los_Angeles:20160911T213000
DTSTAMP:20260424T113437
CREATED:20160906T061516Z
LAST-MODIFIED:20160916T035539Z
UID:6811-1473618600-1473629400@papermoonguitar.com
SUMMARY:Live at Café 21 in the Gaslamp Quarter
DESCRIPTION:Paper Moon duo plays from 7 to 10pm on Sunday\, September 11 at this downtown San Diego restaurant & bar.
URL:https://papermoonguitar.com/shows/live-at-cafe-21-in-the-gaslamp-quarter/
CATEGORIES:Concert
END:VEVENT
BEGIN:VEVENT
DTSTART;TZID=America/Los_Angeles:20160612T190000
DTEND;TZID=America/Los_Angeles:20160612T220000
DTSTAMP:20260424T113437
CREATED:20160611T054722Z
LAST-MODIFIED:20160611T054722Z
UID:6807-1465758000-1465768800@papermoonguitar.com
SUMMARY:Playing this Sunday at Cafe 21 in San Diego's Gaslamp
DESCRIPTION:We’ll be playing for the second time at this downtown restaurant and bar. The old site of the famous Croce’s. Great food and drinks!
URL:https://papermoonguitar.com/shows/playing-this-sunday-at-cafe-21-in-san-diegos-gaslamp/
LOCATION:Cafe 21\, 802 Fifth Ave\, San Diego\, CA\, 92121 \, United States
CATEGORIES:Concert
END:VEVENT
BEGIN:VEVENT
DTSTART;TZID=America/Los_Angeles:20150921T180000
DTEND;TZID=America/Los_Angeles:20150921T210000
DTSTAMP:20260424T113437
CREATED:20150831T170323Z
LAST-MODIFIED:20150831T170323Z
UID:6794-1442858400-1442869200@papermoonguitar.com
SUMMARY:*Private Event*
DESCRIPTION:
URL:https://papermoonguitar.com/shows/private-event-4/
LOCATION:Marriot Marquis\, 1050 Kettner Boulevard\, san diego\, CA\, United States
END:VEVENT
BEGIN:VEVENT
DTSTART;TZID=America/Los_Angeles:20150829T180000
DTEND;TZID=America/Los_Angeles:20150829T200000
DTSTAMP:20260424T113437
CREATED:20150831T170121Z
LAST-MODIFIED:20150831T170121Z
UID:6791-1440871200-1440878400@papermoonguitar.com
SUMMARY:*Private Event*
DESCRIPTION:
URL:https://papermoonguitar.com/shows/private-event-3/
LOCATION:Unnamed Venue\, Rancho Bernardo\, United States
END:VEVENT
BEGIN:VEVENT
DTSTART;TZID=America/Los_Angeles:20150129T170000
DTEND;TZID=America/Los_Angeles:20150129T190000
DTSTAMP:20260424T113437
CREATED:20150128T080019Z
LAST-MODIFIED:20150128T080019Z
UID:6776-1422550800-1422558000@papermoonguitar.com
SUMMARY:*Private Event*
DESCRIPTION:
URL:https://papermoonguitar.com/shows/private-event-2/
LOCATION:Downtown Partnership\, 401 West A Street\, San Diego\, CA\, 92101\, United States
END:VEVENT
BEGIN:VEVENT
DTSTART;TZID=America/Los_Angeles:20140920T160000
DTEND;TZID=America/Los_Angeles:20140920T180000
DTSTAMP:20260424T113437
CREATED:20140901T202350Z
LAST-MODIFIED:20140901T202350Z
UID:6767-1411228800-1411236000@papermoonguitar.com
SUMMARY:*Private Event
DESCRIPTION:
URL:https://papermoonguitar.com/shows/private-event/
LOCATION:Unnamed Venue\, El Cajon\, CA\, 92019\, United States
END:VEVENT
BEGIN:VEVENT
DTSTART;TZID=America/Los_Angeles:20140917T163000
DTEND;TZID=America/Los_Angeles:20140917T183000
DTSTAMP:20260424T113437
CREATED:20140901T202101Z
LAST-MODIFIED:20140901T202101Z
UID:6764-1410971400-1410978600@papermoonguitar.com
SUMMARY:*Private Event - Newport Beach
DESCRIPTION:
URL:https://papermoonguitar.com/shows/private-event-newport-beach/
LOCATION:Radisson Newport Beach\, 4545 MacArthur Blvd\, Newport Beach\, CA 92660\, 92660\, United States
END:VEVENT
BEGIN:VEVENT
DTSTART;TZID=America/Los_Angeles:20140815T220000
DTEND;TZID=America/Los_Angeles:20140816T010000
DTSTAMP:20260424T113437
CREATED:20140814T061920Z
LAST-MODIFIED:20140814T061920Z
UID:6757-1408140000-1408150800@papermoonguitar.com
SUMMARY:Table No. 10 Friday August 15
DESCRIPTION:Paper Moon will play as a trio with bassist Sam Johnson at this new restaurant/bar in downtown San Diego!
URL:https://papermoonguitar.com/shows/table-no-10-friday-august-15/
LOCATION:Table No. 10\, 369 10th Avenue\, San Diego\, CA\, 92101\, United States
END:VEVENT
BEGIN:VEVENT
DTSTART;TZID=America/Los_Angeles:20140601T183000
DTEND;TZID=America/Los_Angeles:20140601T200000
DTSTAMP:20260424T113437
CREATED:20140504T201347Z
LAST-MODIFIED:20140504T201347Z
UID:6701-1401647400-1401652800@papermoonguitar.com
SUMMARY:Paper Moon duo with accordionist Lou Fanucchi - A concert of French music
DESCRIPTION:Paper Moon will be performing with acclaimed accordionist Lou Fanucchi for an evening of music from France; classical to waltz/mussette\, gypsy jazz\, and more! Paper Moon will perform as a duo and with Lou Fanucchi as a trio during this show. Tickets are $15 and can be purchased at the venue’s website.
URL:https://papermoonguitar.com/shows/paper-moon-duo-with-accordionist-lou-fanucchi-a-concert-of-french-music/
LOCATION:Congregational Church of La Jolla\, 1216 Cave Street\, La Jolla\, CA\, 92037\, United States
END:VEVENT
BEGIN:VEVENT
DTSTART;TZID=America/Los_Angeles:20140205T080000
DTEND;TZID=America/Los_Angeles:20140205T170000
DTSTAMP:20260424T113437
CREATED:20140128T190454Z
LAST-MODIFIED:20140128T190454Z
UID:6609-1391587200-1391619600@papermoonguitar.com
SUMMARY:Cafe Sevilla
DESCRIPTION:
URL:https://papermoonguitar.com/shows/cafe-sevilla/
END:VEVENT
END:VCALENDAR